BEGIN:VCALENDAR
VERSION:2.0
PRODID:-//jEvents 2.0 for Joomla//EN
CALSCALE:GREGORIAN
METHOD:PUBLISH
BEGIN:VEVENT
UID:AAAAAOKceKdAuZdDqVkQIpR/QYTkLCAA
CATEGORIES:Dienstplan Einsatzabteilung 
CLASS:PUBLIC
CREATED:20220327T214949
SUMMARY:Ausschuss - Feuerwehrausschuss
DESCRIPTION;ENCODING=QUOTED-PRINTABLE:Sitzung - Ausschuss - Feuerwehrausschuss - Ausbilder: JJ/BS
DTSTAMP:20260423T012442Z
DTSTART:20221005T180000Z
DTEND:20221005T193000Z
SEQUENCE:0
TRANSP:OPAQUE
END:VEVENT
END:VCALENDAR