BEGIN:VCALENDAR
VERSION:2.0
PRODID:-//jEvents 2.0 for Joomla//EN
CALSCALE:GREGORIAN
METHOD:PUBLISH
BEGIN:VEVENT
UID:AAAAAOKceKdAuZdDqVkQIpR/QYTELCAA
CATEGORIES:Dienstplan Einsatzabteilung 
CLASS:PUBLIC
CREATED:20220327T214949
SUMMARY:GELB - Ausbildungsblock V - TRM/TRF Auffangen/Abdichten/Umfüllen
DESCRIPTION;ENCODING=QUOTED-PRINTABLE:Übung - GELB - Ausbildungsblock V - TRM/TRF Auffangen/Abdichten/Umfüllen - 
 Ausbilder: SW/PA
DTSTAMP:20260423T012935Z
DTSTART:20220926T180000Z
DTEND:20220926T193000Z
SEQUENCE:0
TRANSP:OPAQUE
END:VEVENT
END:VCALENDAR