BEGIN:VCALENDAR
VERSION:2.0
PRODID:-//jEvents 2.0 for Joomla//EN
CALSCALE:GREGORIAN
METHOD:PUBLISH
BEGIN:VEVENT
UID:AAAAAOKceKdAuZdDqVkQIpR/QYSELCAA
CATEGORIES:Dienstplan Einsatzabteilung 
CLASS:PUBLIC
CREATED:20220327T214949
SUMMARY:ROT - Ausbildungsblock V - TRM/TRF Auffangen/Abdichten/Umfüllen
DESCRIPTION;ENCODING=QUOTED-PRINTABLE:Übung - ROT - Ausbildungsblock V - TRM/TRF Auffangen/Abdichten/Umfüllen - A
 usbilder: SW/PA
DTSTAMP:20260423T041236Z
DTSTART:20220919T180000Z
DTEND:20220919T193000Z
SEQUENCE:0
TRANSP:OPAQUE
END:VEVENT
END:VCALENDAR