BEGIN:VCALENDAR
VERSION:2.0
PRODID:-//jEvents 2.0 for Joomla//EN
CALSCALE:GREGORIAN
METHOD:PUBLISH
BEGIN:VEVENT
UID:AAAAAOKceKdAuZdDqVkQIpR/QYRkLCAA
CATEGORIES:Dienstplan Einsatzabteilung 
CLASS:PUBLIC
CREATED:20220327T214949
SUMMARY:FüGru - Geobyte e-LAN
DESCRIPTION;ENCODING=QUOTED-PRINTABLE:Übung - FüGru - Geobyte e-LAN - Ausbilder: BS/JG
DTSTAMP:20260423T071028Z
DTSTART:20220914T180000Z
DTEND:20220914T193000Z
SEQUENCE:0
TRANSP:OPAQUE
END:VEVENT
END:VCALENDAR