BEGIN:VCALENDAR
VERSION:2.0
PRODID:-//jEvents 2.0 for Joomla//EN
CALSCALE:GREGORIAN
METHOD:PUBLISH
BEGIN:VEVENT
UID:AAAAAOKceKdAuZdDqVkQIpR/QYRELCAA
CATEGORIES:Dienstplan Einsatzabteilung 
CLASS:PUBLIC
CREATED:20220327T214949
SUMMARY:BLAU - Ausbildungsblock IV - TRM/TRF Rettungstechniken Pkw
DESCRIPTION;ENCODING=QUOTED-PRINTABLE:Übung - BLAU - Ausbildungsblock IV - TRM/TRF Rettungstechniken Pkw - Ausbil
 der: SP/AS
DTSTAMP:20260423T040710Z
DTSTART:20220912T180000Z
DTEND:20220912T193000Z
SEQUENCE:0
TRANSP:OPAQUE
END:VEVENT
END:VCALENDAR