BEGIN:VCALENDAR
VERSION:2.0
PRODID:-//jEvents 2.0 for Joomla//EN
CALSCALE:GREGORIAN
METHOD:PUBLISH
BEGIN:VEVENT
UID:AAAAAOKceKdAuZdDqVkQIpR/QYQkLCAA
CATEGORIES:Dienstplan Einsatzabteilung 
CLASS:PUBLIC
CREATED:20220327T214949
SUMMARY:Gesamtwehr - Schäferlauf Markgröningen Einsatzbereitschaft
DESCRIPTION;ENCODING=QUOTED-PRINTABLE:Einsatzbereitschaft - Gesamtwehr - Schäferlauf Markgröningen Einsatzbereits
 chaft - Ausbilder: JJ/BS
DTSTAMP:20260424T082811Z
DTSTART:20220826T120000Z
DTEND:20220829T193000Z
SEQUENCE:0
TRANSP:OPAQUE
END:VEVENT
END:VCALENDAR