BEGIN:VCALENDAR
VERSION:2.0
PRODID:-//jEvents 2.0 for Joomla//EN
CALSCALE:GREGORIAN
METHOD:PUBLISH
BEGIN:VEVENT
UID:AAAAAOKceKdAuZdDqVkQIpR/QYQELCAA
CATEGORIES:Dienstplan Einsatzabteilung 
CLASS:PUBLIC
CREATED:20220327T214949
SUMMARY:Gesamtwehr - Sommerübung
DESCRIPTION;ENCODING=QUOTED-PRINTABLE:Übung - Gesamtwehr - Sommerübung - Ausbilder: TK/BS/JJ
DTSTAMP:20260422T233934Z
DTSTART:20220815T180000Z
DTEND:20220815T193000Z
SEQUENCE:0
TRANSP:OPAQUE
END:VEVENT
END:VCALENDAR