BEGIN:VCALENDAR
VERSION:2.0
PRODID:-//jEvents 2.0 for Joomla//EN
CALSCALE:GREGORIAN
METHOD:PUBLISH
BEGIN:VEVENT
UID:AAAAAOKceKdAuZdDqVkQIpR/QYTEKyAA
CATEGORIES:Dienstplan Einsatzabteilung 
CLASS:PUBLIC
CREATED:20220327T214949
SUMMARY:FüGru - FLIWAS
DESCRIPTION;ENCODING=QUOTED-PRINTABLE:Übung - FüGru - FLIWAS - Ausbilder: JJ/BS
DTSTAMP:20260422T222418Z
DTSTART:20220720T180000Z
DTEND:20220720T193000Z
SEQUENCE:0
TRANSP:OPAQUE
END:VEVENT
END:VCALENDAR