BEGIN:VCALENDAR
VERSION:2.0
PRODID:-//jEvents 2.0 for Joomla//EN
CALSCALE:GREGORIAN
METHOD:PUBLISH
BEGIN:VEVENT
UID:AAAAAOKceKdAuZdDqVkQIpR/QYSkKyAA
CATEGORIES:Dienstplan Einsatzabteilung 
CLASS:PUBLIC
CREATED:20220327T214949
SUMMARY:GELB - Ausbildungsblock IV - TRM/TRF Rettungstechniken Pkw
DESCRIPTION;ENCODING=QUOTED-PRINTABLE:Übung - GELB - Ausbildungsblock IV - TRM/TRF Rettungstechniken Pkw - Ausbil
 der: SP/AS
DTSTAMP:20260422T222907Z
DTSTART:20220718T180000Z
DTEND:20220718T193000Z
SEQUENCE:0
TRANSP:OPAQUE
END:VEVENT
END:VCALENDAR