BEGIN:VCALENDAR
VERSION:2.0
PRODID:-//jEvents 2.0 for Joomla//EN
CALSCALE:GREGORIAN
METHOD:PUBLISH
BEGIN:VEVENT
UID:AAAAAOKceKdAuZdDqVkQIpR/QYSEKyAA
CATEGORIES:Dienstplan Einsatzabteilung 
CLASS:PUBLIC
CREATED:20220327T214949
SUMMARY:FüGru - Führungsstellen Leitstelle u. ELW2
DESCRIPTION;ENCODING=QUOTED-PRINTABLE:Übung - FüGru - Führungsstellen Leitstelle u. ELW2 - Ausbilder: BS/TK
DTSTAMP:20260422T222600Z
DTSTART:20220711T180000Z
DTEND:20220711T193000Z
SEQUENCE:0
TRANSP:OPAQUE
END:VEVENT
END:VCALENDAR