BEGIN:VCALENDAR
VERSION:2.0
PRODID:-//jEvents 2.0 for Joomla//EN
CALSCALE:GREGORIAN
METHOD:PUBLISH
BEGIN:VEVENT
UID:AAAAAOKceKdAuZdDqVkQIpR/QYQkKyAA
CATEGORIES:Dienstplan Einsatzabteilung 
CLASS:PUBLIC
CREATED:20220327T214949
SUMMARY:ROT - Ausbildungsblock IV - TRM/TRF Rettungstechniken Pkw
DESCRIPTION;ENCODING=QUOTED-PRINTABLE:Übung - ROT - Ausbildungsblock IV - TRM/TRF Rettungstechniken Pkw - Ausbild
 er: SP/AS
DTSTAMP:20260422T221646Z
DTSTART:20220704T180000Z
DTEND:20220704T193000Z
SEQUENCE:0
TRANSP:OPAQUE
END:VEVENT
END:VCALENDAR