BEGIN:VCALENDAR
VERSION:2.0
PRODID:-//jEvents 2.0 for Joomla//EN
CALSCALE:GREGORIAN
METHOD:PUBLISH
BEGIN:VEVENT
UID:AAAAAOKceKdAuZdDqVkQIpR/QYQEKyAA
CATEGORIES:Dienstplan Einsatzabteilung 
CLASS:PUBLIC
CREATED:20220327T214949
SUMMARY:FüGru - Führungshaus
DESCRIPTION;ENCODING=QUOTED-PRINTABLE:Übung - FüGru - Führungshaus - Ausbilder: BS/TK
DTSTAMP:20260422T210238Z
DTSTART:20220630T180000Z
DTEND:20220630T193000Z
SEQUENCE:0
TRANSP:OPAQUE
END:VEVENT
END:VCALENDAR