BEGIN:VCALENDAR
VERSION:2.0
PRODID:-//jEvents 2.0 for Joomla//EN
CALSCALE:GREGORIAN
METHOD:PUBLISH
BEGIN:VEVENT
UID:AAAAAOKceKdAuZdDqVkQIpR/QYTEKiAA
CATEGORIES:Dienstplan Einsatzabteilung 
CLASS:PUBLIC
CREATED:20220327T214949
SUMMARY:Helfer - TM Modul 6 (THL-Groß) Vorgehen bei Unfällen mit Pkw
DESCRIPTION;ENCODING=QUOTED-PRINTABLE:Modulausbildung - Helfer - TM Modul 6 (THL-Groß) Vorgehen bei Unfällen mit 
 Pkw - Ausbilder: MH/BB
DTSTAMP:20260422T195124Z
DTSTART:20220625T070000Z
DTEND:20220625T140000Z
SEQUENCE:0
TRANSP:OPAQUE
END:VEVENT
END:VCALENDAR