BEGIN:VCALENDAR
VERSION:2.0
PRODID:-//jEvents 2.0 for Joomla//EN
CALSCALE:GREGORIAN
METHOD:PUBLISH
BEGIN:VEVENT
UID:AAAAAOKceKdAuZdDqVkQIpR/QYSEKiAA
CATEGORIES:Dienstplan Einsatzabteilung 
CLASS:PUBLIC
CREATED:20220327T214949
SUMMARY:GRÜN - Ausbildungsblock III - TRM/TRF Tragbare Leitern
DESCRIPTION;ENCODING=QUOTED-PRINTABLE:Übung - GRÜN - Ausbildungsblock III - TRM/TRF Tragbare Leitern - Ausbilder:
  SW/PA/CK
DTSTAMP:20260422T195134Z
DTSTART:20220620T180000Z
DTEND:20220620T193000Z
SEQUENCE:0
TRANSP:OPAQUE
END:VEVENT
END:VCALENDAR