BEGIN:VCALENDAR
VERSION:2.0
PRODID:-//jEvents 2.0 for Joomla//EN
CALSCALE:GREGORIAN
METHOD:PUBLISH
BEGIN:VEVENT
UID:AAAAAOKceKdAuZdDqVkQIpR/QYRkKiAA
CATEGORIES:Dienstplan Einsatzabteilung 
CLASS:PUBLIC
CREATED:20220327T214949
SUMMARY:GF und ZF - Einsatztaktik Brandeinsatz
DESCRIPTION;ENCODING=QUOTED-PRINTABLE:Übung - GF und ZF - Einsatztaktik Brandeinsatz - Ausbilder: JJ/BS/SG
DTSTAMP:20260424T135338Z
DTSTART:20220530T180000Z
DTEND:20220530T193000Z
SEQUENCE:0
TRANSP:OPAQUE
END:VEVENT
END:VCALENDAR