BEGIN:VCALENDAR
VERSION:2.0
PRODID:-//jEvents 2.0 for Joomla//EN
CALSCALE:GREGORIAN
METHOD:PUBLISH
BEGIN:VEVENT
UID:AAAAAOKceKdAuZdDqVkQIpR/QYREKiAA
CATEGORIES:Dienstplan Einsatzabteilung 
CLASS:PUBLIC
CREATED:20220327T214949
SUMMARY:GELB - Ausbildungsblock III - TRM/TRF Tragbare Leitern
DESCRIPTION;ENCODING=QUOTED-PRINTABLE:Übung - GELB - Ausbildungsblock III - TRM/TRF Tragbare Leitern - Ausbilder:
  SW/PA
DTSTAMP:20260424T084735Z
DTSTART:20220523T180000Z
DTEND:20220523T193000Z
SEQUENCE:0
TRANSP:OPAQUE
END:VEVENT
END:VCALENDAR