BEGIN:VCALENDAR
VERSION:2.0
PRODID:-//jEvents 2.0 for Joomla//EN
CALSCALE:GREGORIAN
METHOD:PUBLISH
BEGIN:VEVENT
UID:AAAAAOKceKdAuZdDqVkQIpR/QYQkKiAA
CATEGORIES:Dienstplan Einsatzabteilung 
CLASS:PUBLIC
CREATED:20220327T214949
SUMMARY:FüGru - Geobyte e-LAN
DESCRIPTION;ENCODING=QUOTED-PRINTABLE:Übung - FüGru - Geobyte e-LAN - Ausbilder: BS/JG
DTSTAMP:20260422T184001Z
DTSTART:20220518T180000Z
DTEND:20220518T193000Z
SEQUENCE:0
TRANSP:OPAQUE
END:VEVENT
END:VCALENDAR