BEGIN:VCALENDAR
VERSION:2.0
PRODID:-//jEvents 2.0 for Joomla//EN
CALSCALE:GREGORIAN
METHOD:PUBLISH
BEGIN:VEVENT
UID:AAAAAOKceKdAuZdDqVkQIpR/QYTEKSAA
CATEGORIES:Dienstplan Einsatzabteilung 
CLASS:PUBLIC
CREATED:20220327T214949
SUMMARY:GRÜN - Ausbildungsblock III - TRM/TRF Löscheinsatz/Einsatzformen
DESCRIPTION;ENCODING=QUOTED-PRINTABLE:Übung - GRÜN - Ausbildungsblock III - TRM/TRF Löscheinsatz/Einsatzformen - 
 Ausbilder: BB/CE
DTSTAMP:20260422T195930Z
DTSTART:20220502T180000Z
DTEND:20220502T193000Z
SEQUENCE:0
TRANSP:OPAQUE
END:VEVENT
END:VCALENDAR