BEGIN:VCALENDAR
VERSION:2.0
PRODID:-//jEvents 2.0 for Joomla//EN
CALSCALE:GREGORIAN
METHOD:PUBLISH
BEGIN:VEVENT
UID:AAAAAOKceKdAuZdDqVkQIpR/QYSkKSAA
CATEGORIES:Dienstplan Einsatzabteilung 
CLASS:PUBLIC
CREATED:20220327T214949
SUMMARY:Gesamtwehr - Tag der offenen Tür/Infoaktion o. ä. Pademiebedingt Ausführung unklar
DESCRIPTION;ENCODING=QUOTED-PRINTABLE:Tag der offenen Tür - Gesamtwehr - Tag der offenen Tür/Infoaktion o. ä. Pad
 emiebedingt Ausführung unklar - Ausbilder: JJ/BS
DTSTAMP:20260422T175550Z
DTSTART:20220423T120000Z
DTEND:20220425T180000Z
SEQUENCE:0
TRANSP:OPAQUE
END:VEVENT
END:VCALENDAR