BEGIN:VCALENDAR
VERSION:2.0
PRODID:-//jEvents 2.0 for Joomla//EN
CALSCALE:GREGORIAN
METHOD:PUBLISH
BEGIN:VEVENT
UID:AAAAAOKceKdAuZdDqVkQIpR/QYQEKSAA
CATEGORIES:Dienstplan Einsatzabteilung 
CLASS:PUBLIC
CREATED:20220327T214949
SUMMARY:ROT - Ausbildungsblock III - TRM/TRF Löscheinsatz/Einsatzformen
DESCRIPTION;ENCODING=QUOTED-PRINTABLE:Übung - ROT - Ausbildungsblock III - TRM/TRF Löscheinsatz/Einsatzformen - A
 usbilder: BB/CE
DTSTAMP:20260424T101148Z
DTSTART:20220328T180000Z
DTEND:20220328T193000Z
SEQUENCE:0
TRANSP:OPAQUE
END:VEVENT
END:VCALENDAR