BEGIN:VCALENDAR
VERSION:2.0
PRODID:-//jEvents 2.0 for Joomla//EN
CALSCALE:GREGORIAN
METHOD:PUBLISH
BEGIN:VEVENT
UID:AAAAAOKceKdAuZdDqVkQIpR/QYTkKCAA
CATEGORIES:Dienstplan Einsatzabteilung 
CLASS:PUBLIC
CREATED:20220327T214949
SUMMARY:Gesamtwehr - Erste-Hilfe-Kurs Erste-Hilfe-Fortbildung HiOrg
DESCRIPTION;ENCODING=QUOTED-PRINTABLE:Übung - Gesamtwehr - Erste-Hilfe-Kurs Erste-Hilfe-Fortbildung HiOrg - Ausbi
 lder: SG
DTSTAMP:20260422T163459Z
DTSTART:20220326T080000Z
DTEND:20220326T150000Z
SEQUENCE:0
TRANSP:OPAQUE
END:VEVENT
END:VCALENDAR