BEGIN:VCALENDAR
VERSION:2.0
PRODID:-//jEvents 2.0 for Joomla//EN
CALSCALE:GREGORIAN
METHOD:PUBLISH
BEGIN:VEVENT
UID:AAAAAOKceKdAuZdDqVkQIpR/QYTEKCAA
CATEGORIES:Dienstplan Einsatzabteilung 
CLASS:PUBLIC
CREATED:20220327T214949
SUMMARY:Helfer - TM Modul 1
DESCRIPTION;ENCODING=QUOTED-PRINTABLE:Modulausbildung - Helfer - TM Modul 1 - Ausbilder: JJ/BS
DTSTAMP:20260422T163459Z
DTSTART:20220324T080000Z
DTEND:20220324T150000Z
SEQUENCE:0
TRANSP:OPAQUE
END:VEVENT
END:VCALENDAR