BEGIN:VCALENDAR
VERSION:2.0
PRODID:-//jEvents 2.0 for Joomla//EN
CALSCALE:GREGORIAN
METHOD:PUBLISH
BEGIN:VEVENT
UID:AAAAAOKceKdAuZdDqVkQIpR/QYSkKCAA
CATEGORIES:Dienstplan Einsatzabteilung 
CLASS:PUBLIC
CREATED:20220327T214949
SUMMARY:BLAU - Ausbildungsblock I - TRM/TRF Heben und Bewegen von Lasten
DESCRIPTION;ENCODING=QUOTED-PRINTABLE:Übung - BLAU - Ausbildungsblock I - TRM/TRF Heben und Bewegen von Lasten - 
 Ausbilder: SP/CK
DTSTAMP:20260424T114924Z
DTSTART:20220321T190000Z
DTEND:20220321T203000Z
SEQUENCE:0
TRANSP:OPAQUE
END:VEVENT
END:VCALENDAR