BEGIN:VCALENDAR
VERSION:2.0
PRODID:-//jEvents 2.0 for Joomla//EN
CALSCALE:GREGORIAN
METHOD:PUBLISH
BEGIN:VEVENT
UID:AAAAAOKceKdAuZdDqVkQIpR/QYQkKCAA
CATEGORIES:Dienstplan Einsatzabteilung 
CLASS:PUBLIC
CREATED:20220327T214949
SUMMARY:MA - Kraftbetriebene Geräte u. Aggregate
DESCRIPTION;ENCODING=QUOTED-PRINTABLE:Übung - MA - Kraftbetriebene Geräte u. Aggregate - Ausbilder: SW
DTSTAMP:20260424T150448Z
DTSTART:20220310T190000Z
DTEND:20220310T203000Z
SEQUENCE:0
TRANSP:OPAQUE
END:VEVENT
END:VCALENDAR