BEGIN:VCALENDAR
VERSION:2.0
PRODID:-//jEvents 2.0 for Joomla//EN
CALSCALE:GREGORIAN
METHOD:PUBLISH
BEGIN:VEVENT
UID:AAAAAOKceKdAuZdDqVkQIpR/QYQEKCAA
CATEGORIES:Dienstplan Einsatzabteilung 
CLASS:PUBLIC
CREATED:20220327T214949
SUMMARY:GRÜN - Ausbildungsblock I - TRM/TRF Heben und Bewegen von Lasten
DESCRIPTION;ENCODING=QUOTED-PRINTABLE:Übung - GRÜN - Ausbildungsblock I - TRM/TRF Heben und Bewegen von Lasten - 
 Ausbilder: SP/CK
DTSTAMP:20260424T084133Z
DTSTART:20220307T190000Z
DTEND:20220307T203000Z
SEQUENCE:0
TRANSP:OPAQUE
END:VEVENT
END:VCALENDAR