BEGIN:VCALENDAR
VERSION:2.0
PRODID:-//jEvents 2.0 for Joomla//EN
CALSCALE:GREGORIAN
METHOD:PUBLISH
BEGIN:VEVENT
UID:AAAAAOKceKdAuZdDqVkQIpR/QYTkJyAA
CATEGORIES:Dienstplan Einsatzabteilung 
CLASS:PUBLIC
CREATED:20220327T214949
SUMMARY:GELB - Ausbildungsblock I - TRM/TRF Heben und Bewegen von Lasten
DESCRIPTION;ENCODING=QUOTED-PRINTABLE:Übung - GELB - Ausbildungsblock I - TRM/TRF Heben und Bewegen von Lasten - 
 Ausbilder: SP/CK/HM
DTSTAMP:20260422T141355Z
DTSTART:20220228T190000Z
DTEND:20220228T203000Z
SEQUENCE:0
TRANSP:OPAQUE
END:VEVENT
END:VCALENDAR