BEGIN:VCALENDAR
VERSION:2.0
PRODID:-//jEvents 2.0 for Joomla//EN
CALSCALE:GREGORIAN
METHOD:PUBLISH
BEGIN:VEVENT
UID:AAAAAOKceKdAuZdDqVkQIpR/QYSkJyAA
CATEGORIES:Dienstplan Einsatzabteilung 
CLASS:PUBLIC
CREATED:20220327T214949
SUMMARY:FüGru - Lagekarte/taktische Zeit u. Zeichen
DESCRIPTION;ENCODING=QUOTED-PRINTABLE:Übung - FüGru - Lagekarte/taktische Zeit u. Zeichen - Ausbilder: BS/TK
DTSTAMP:20260422T141938Z
DTSTART:20220221T190000Z
DTEND:20220221T203000Z
SEQUENCE:0
TRANSP:OPAQUE
END:VEVENT
END:VCALENDAR