BEGIN:VCALENDAR
VERSION:2.0
PRODID:-//jEvents 2.0 for Joomla//EN
CALSCALE:GREGORIAN
METHOD:PUBLISH
BEGIN:VEVENT
UID:AAAAAOKceKdAuZdDqVkQIpR/QYSEJyAA
CATEGORIES:Dienstplan Einsatzabteilung 
CLASS:PUBLIC
CREATED:20220327T214949
SUMMARY:AGT - Jährliche Unterweisung
DESCRIPTION;ENCODING=QUOTED-PRINTABLE:Übung - AGT - Jährliche Unterweisung - Ausbilder: MH/BB
DTSTAMP:20260422T141256Z
DTSTART:20220217T190000Z
DTEND:20220217T203000Z
SEQUENCE:0
TRANSP:OPAQUE
END:VEVENT
END:VCALENDAR