BEGIN:VCALENDAR
VERSION:2.0
PRODID:-//jEvents 2.0 for Joomla//EN
CALSCALE:GREGORIAN
METHOD:PUBLISH
BEGIN:VEVENT
UID:AAAAAOKceKdAuZdDqVkQIpR/QYRkJyAA
CATEGORIES:Dienstplan Einsatzabteilung 
CLASS:PUBLIC
CREATED:20220327T214949
SUMMARY:ROT - Ausbildungsblock I - TRM/TRF Heben und Bewegen von Lasten
DESCRIPTION;ENCODING=QUOTED-PRINTABLE:Übung - ROT - Ausbildungsblock I - TRM/TRF Heben und Bewegen von Lasten - A
 usbilder: SP/CK
DTSTAMP:20260422T141943Z
DTSTART:20220214T190000Z
DTEND:20220214T203000Z
SEQUENCE:0
TRANSP:OPAQUE
END:VEVENT
END:VCALENDAR