BEGIN:VCALENDAR
VERSION:2.0
PRODID:-//jEvents 2.0 for Joomla//EN
CALSCALE:GREGORIAN
METHOD:PUBLISH
BEGIN:VEVENT
UID:AAAAAOKceKdAuZdDqVkQIpR/QYREJyAA
CATEGORIES:Dienstplan Einsatzabteilung 
CLASS:PUBLIC
CREATED:20220327T214949
SUMMARY:GF und ZF - Einsatztaktik
DESCRIPTION;ENCODING=QUOTED-PRINTABLE:Übung - GF und ZF - Einsatztaktik - Ausbilder: JJ/BS/SG
DTSTAMP:20260422T145337Z
DTSTART:20220207T190000Z
DTEND:20220207T203000Z
SEQUENCE:0
TRANSP:OPAQUE
END:VEVENT
END:VCALENDAR