BEGIN:VCALENDAR
VERSION:2.0
PRODID:-//jEvents 2.0 for Joomla//EN
CALSCALE:GREGORIAN
METHOD:PUBLISH
BEGIN:VEVENT
UID:AAAAAOKceKdAuZdDqVkQIpR/QYQEJyAA
CATEGORIES:Dienstplan Einsatzabteilung 
CLASS:PUBLIC
CREATED:20220327T214949
SUMMARY:BLAU - Ausbildungsblock II - TRM/TRF Schneiden und Trennen
DESCRIPTION;ENCODING=QUOTED-PRINTABLE:Übung - BLAU - Ausbildungsblock II - TRM/TRF Schneiden und Trennen - Ausbil
 der: TK/KB
DTSTAMP:20260422T134640Z
DTSTART:20220131T190000Z
DTEND:20220131T203000Z
SEQUENCE:0
TRANSP:OPAQUE
END:VEVENT
END:VCALENDAR