BEGIN:VCALENDAR
VERSION:2.0
PRODID:-//jEvents 2.0 for Joomla//EN
CALSCALE:GREGORIAN
METHOD:PUBLISH
BEGIN:VEVENT
UID:AAAAAOKceKdAuZdDqVkQIpR/QYTEJiAA
CATEGORIES:Dienstplan Einsatzabteilung 
CLASS:PUBLIC
CREATED:20220327T214949
SUMMARY:GELB - Digitalfunk Einweisung Gerätebedienung
DESCRIPTION;ENCODING=QUOTED-PRINTABLE:Übung - GELB - Digitalfunk Einweisung Gerätebedienung - Ausbilder: CE/SG
DTSTAMP:20260422T134048Z
DTSTART:20220125T190000Z
DTEND:20220125T203000Z
SEQUENCE:0
TRANSP:OPAQUE
END:VEVENT
END:VCALENDAR