BEGIN:VCALENDAR
VERSION:2.0
PRODID:-//jEvents 2.0 for Joomla//EN
CALSCALE:GREGORIAN
METHOD:PUBLISH
BEGIN:VEVENT
UID:AAAAAOKceKdAuZdDqVkQIpR/QYSkJiAA
CATEGORIES:Dienstplan Einsatzabteilung 
CLASS:PUBLIC
CREATED:20220327T214949
SUMMARY:GRÜN - Ausbildungsblock II - TRM/TRF Schneiden und Trennen
DESCRIPTION;ENCODING=QUOTED-PRINTABLE:Übung - GRÜN - Ausbildungsblock II - TRM/TRF Schneiden und Trennen - Ausbil
 der: TK/KB
DTSTAMP:20260422T134754Z
DTSTART:20220124T190000Z
DTEND:20220124T203000Z
SEQUENCE:0
TRANSP:OPAQUE
END:VEVENT
END:VCALENDAR