BEGIN:VCALENDAR
VERSION:2.0
PRODID:-//jEvents 2.0 for Joomla//EN
CALSCALE:GREGORIAN
METHOD:PUBLISH
BEGIN:VEVENT
UID:AAAAAOKceKdAuZdDqVkQIpR/QYSEJiAA
CATEGORIES:Dienstplan Einsatzabteilung 
CLASS:PUBLIC
CREATED:20220327T214949
SUMMARY:MA - Jährliche Unterweisung
DESCRIPTION;ENCODING=QUOTED-PRINTABLE:Übung - MA - Jährliche Unterweisung - Ausbilder: SW
DTSTAMP:20260424T101223Z
DTSTART:20220120T190000Z
DTEND:20220120T203000Z
SEQUENCE:0
TRANSP:OPAQUE
END:VEVENT
END:VCALENDAR