BEGIN:VCALENDAR
VERSION:2.0
PRODID:-//jEvents 2.0 for Joomla//EN
CALSCALE:GREGORIAN
METHOD:PUBLISH
BEGIN:VEVENT
UID:AAAAAOKceKdAuZdDqVkQIpR/QYRkJiAA
CATEGORIES:Dienstplan Einsatzabteilung 
CLASS:PUBLIC
CREATED:20220327T214949
SUMMARY:AGT - Belastungsübung Vaihingen/Enz
DESCRIPTION;ENCODING=QUOTED-PRINTABLE:Übung - AGT - Belastungsübung Vaihingen/Enz - Ausbilder: MH
DTSTAMP:20260422T141400Z
DTSTART:20220119T180000Z
DTEND:20220119T203000Z
SEQUENCE:0
TRANSP:OPAQUE
END:VEVENT
END:VCALENDAR