BEGIN:VCALENDAR
VERSION:2.0
PRODID:-//jEvents 2.0 for Joomla//EN
CALSCALE:GREGORIAN
METHOD:PUBLISH
BEGIN:VEVENT
UID:AAAAAOKceKdAuZdDqVkQIpR/QYREJiAA
CATEGORIES:Dienstplan Einsatzabteilung 
CLASS:PUBLIC
CREATED:20220327T214949
SUMMARY:GRÜN - Digitalfunk Einweisung Gerätebedienung
DESCRIPTION;ENCODING=QUOTED-PRINTABLE:Übung - GRÜN - Digitalfunk Einweisung Gerätebedienung - Ausbilder: CE/SG
DTSTAMP:20260422T124136Z
DTSTART:20220118T190000Z
DTEND:20220118T203000Z
SEQUENCE:0
TRANSP:OPAQUE
END:VEVENT
END:VCALENDAR