BEGIN:VCALENDAR
VERSION:2.0
PRODID:-//jEvents 2.0 for Joomla//EN
CALSCALE:GREGORIAN
METHOD:PUBLISH
BEGIN:VEVENT
UID:AAAAAOKceKdAuZdDqVkQIpR/QYQkJiAA
CATEGORIES:Dienstplan Einsatzabteilung 
CLASS:PUBLIC
CREATED:20220327T214949
SUMMARY:GELB - Ausbildungsblock II - TRM/TRF Schneiden und Trennen
DESCRIPTION;ENCODING=QUOTED-PRINTABLE:Übung - GELB - Ausbildungsblock II - TRM/TRF Schneiden und Trennen - Ausbil
 der: TK/KB/HM
DTSTAMP:20260422T134553Z
DTSTART:20220117T190000Z
DTEND:20220117T203000Z
SEQUENCE:0
TRANSP:OPAQUE
END:VEVENT
END:VCALENDAR