BEGIN:VCALENDAR
VERSION:2.0
PRODID:-//jEvents 2.0 for Joomla//EN
CALSCALE:GREGORIAN
METHOD:PUBLISH
BEGIN:VEVENT
UID:AAAAAOKceKdAuZdDqVkQIpR/QYQEJiAA
CATEGORIES:Dienstplan Einsatzabteilung 
CLASS:PUBLIC
CREATED:20220327T214949
SUMMARY:AGT und MA - G 25/G 26 Arbeitsmedizinische Untersuchung
DESCRIPTION;ENCODING=QUOTED-PRINTABLE:G26 - AGT und MA - G 25/G 26 Arbeitsmedizinische Untersuchung - Ausbilder: 
 JJ/BS/MH
DTSTAMP:20260422T133957Z
DTSTART:20220114T130000Z
DTEND:20220116T100000Z
SEQUENCE:0
TRANSP:OPAQUE
END:VEVENT
END:VCALENDAR