BEGIN:VCALENDAR
VERSION:2.0
PRODID:-//jEvents 2.0 for Joomla//EN
CALSCALE:GREGORIAN
METHOD:PUBLISH
BEGIN:VEVENT
UID:AAAAAOKceKdAuZdDqVkQIpR/QYTEJSAA
CATEGORIES:Dienstplan Einsatzabteilung 
CLASS:PUBLIC
CREATED:20220327T214949
SUMMARY:BLAU - Digitalfunk Einweisung Gerätebedienung
DESCRIPTION;ENCODING=QUOTED-PRINTABLE:Übung - BLAU - Digitalfunk Einweisung Gerätebedienung - Ausbilder: CE/SG
DTSTAMP:20260422T133808Z
DTSTART:20220111T190000Z
DTEND:20220111T203000Z
SEQUENCE:0
TRANSP:OPAQUE
END:VEVENT
END:VCALENDAR