BEGIN:VCALENDAR
VERSION:2.0
PRODID:-//jEvents 2.0 for Joomla//EN
CALSCALE:GREGORIAN
METHOD:PUBLISH
BEGIN:VEVENT
UID:AAAAAOKceKdAuZdDqVkQIpR/QYSkJSAA
CATEGORIES:Dienstplan Einsatzabteilung 
CLASS:PUBLIC
CREATED:20220327T214949
SUMMARY:ROT - Ausbildungsblock II - TRM/TRF Schneiden und Trennen
DESCRIPTION;ENCODING=QUOTED-PRINTABLE:Übung - ROT - Ausbildungsblock II - TRM/TRF Schneiden und Trennen - Ausbild
 er: TK/KB
DTSTAMP:20260422T142022Z
DTSTART:20220110T190000Z
DTEND:20220110T203000Z
SEQUENCE:0
TRANSP:OPAQUE
END:VEVENT
END:VCALENDAR