BEGIN:VCALENDAR
VERSION:2.0
PRODID:-//jEvents 2.0 for Joomla//EN
CALSCALE:GREGORIAN
METHOD:PUBLISH
BEGIN:VEVENT
UID:cbc2c5ee92c93a6c10876a230206f4fc
CATEGORIES:Ferien Baden-Württemberg
CREATED:20220109T223414
SUMMARY:Faschingsferien
DESCRIPTION;ENCODING=QUOTED-PRINTABLE:
DTSTAMP:20260422T191238Z
DTSTART;VALUE=DATE:20220228
DTEND;VALUE=DATE:20220307
SEQUENCE:0
TRANSP:OPAQUE
END:VEVENT
END:VCALENDAR