BEGIN:VCALENDAR
VERSION:2.0
PRODID:-//jEvents 2.0 for Joomla//EN
CALSCALE:GREGORIAN
METHOD:PUBLISH
BEGIN:VEVENT
UID:AAAAAOKceKdAuZdDqVkQIpR/QYSEJSAA
CATEGORIES:Dienstplan Jugendfeuerwehr
CREATED:20220109T222959
SUMMARY:Jahresabschluss - ALLE
LOCATION:Schwieberdingen
DESCRIPTION;ENCODING=QUOTED-PRINTABLE:<p>Bemerkungen: Abschluss gemeinsam mit den Eltern - Anzugsordnung: Zivil -
  Teilnehmerkreis: ALLE</p><p>&nbsp;</p><p>!! Verschoben vom 22.12.2022 auf 
 den 16.12.2022 !!</p>
DTSTAMP:20260425T141303Z
DTSTART:20221216T173000Z
DTEND:20221216T213000Z
SEQUENCE:0
TRANSP:OPAQUE
END:VEVENT
END:VCALENDAR