BEGIN:VCALENDAR
VERSION:2.0
PRODID:-//jEvents 2.0 for Joomla//EN
CALSCALE:GREGORIAN
METHOD:PUBLISH
BEGIN:VEVENT
UID:AAAAAOKceKdAuZdDqVkQIpR/QYSkJCAA
CATEGORIES:Dienstplan Jugendfeuerwehr
CREATED:20220109T222959
SUMMARY:Helfertag - ALLE
LOCATION:Schwieberdingen
DESCRIPTION;ENCODING=QUOTED-PRINTABLE:Bemerkungen: Projekttag für Helfer - Anzugsordnung: Uniform - Teilnehmerkre
 is: ALLE
DTSTAMP:20260423T024239Z
DTSTART:20221028T050000Z
DTEND:20221028T150000Z
SEQUENCE:0
TRANSP:OPAQUE
END:VEVENT
END:VCALENDAR