BEGIN:VCALENDAR
VERSION:2.0
PRODID:-//jEvents 2.0 for Joomla//EN
CALSCALE:GREGORIAN
METHOD:PUBLISH
BEGIN:VEVENT
UID:AAAAAOKceKdAuZdDqVkQIpR/QYSEJCAA
CATEGORIES:Dienstplan Jugendfeuerwehr
CREATED:20220109T222959
SUMMARY:Übung - 132 - ORANGE/ROT
LOCATION:Schwieberdingen
DESCRIPTION;ENCODING=QUOTED-PRINTABLE:Bemerkungen: Praxisübung - Anzugsordnung: Uniform - Teilnehmerkreis: ORANGE
 /ROT
DTSTAMP:20260423T053544Z
DTSTART:20221027T163000Z
DTEND:20221027T180000Z
SEQUENCE:0
TRANSP:OPAQUE
END:VEVENT
END:VCALENDAR