BEGIN:VCALENDAR
VERSION:2.0
PRODID:-//jEvents 2.0 for Joomla//EN
CALSCALE:GREGORIAN
METHOD:PUBLISH
BEGIN:VEVENT
UID:AAAAAOKceKdAuZdDqVkQIpR/QYRkIyAA
CATEGORIES:Dienstplan Jugendfeuerwehr
CREATED:20220109T222959
SUMMARY:Übung - 102 - ORANGE/ROT
LOCATION:Schwieberdingen
DESCRIPTION;ENCODING=QUOTED-PRINTABLE:Bemerkungen: Praxisübung - Anzugsordnung: Uniform - Teilnehmerkreis: ORANGE
 /ROT
DTSTAMP:20260422T222604Z
DTSTART:20220721T163000Z
DTEND:20220721T180000Z
SEQUENCE:0
TRANSP:OPAQUE
END:VEVENT
END:VCALENDAR