BEGIN:VCALENDAR
VERSION:2.0
PRODID:-//jEvents 2.0 for Joomla//EN
CALSCALE:GREGORIAN
METHOD:PUBLISH
BEGIN:VEVENT
UID:AAAAAOKceKdAuZdDqVkQIpR/QYREIyAA
CATEGORIES:Dienstplan Jugendfeuerwehr
CREATED:20220109T222959
SUMMARY:Übung - 101 - GELB
LOCATION:Schwieberdingen
DESCRIPTION;ENCODING=QUOTED-PRINTABLE:Bemerkungen: Praxisübung - Anzugsordnung: Uniform - Teilnehmerkreis: GELB
DTSTAMP:20260422T222913Z
DTSTART:20220714T163000Z
DTEND:20220714T180000Z
SEQUENCE:0
TRANSP:OPAQUE
END:VEVENT
END:VCALENDAR