BEGIN:VCALENDAR
VERSION:2.0
PRODID:-//jEvents 2.0 for Joomla//EN
CALSCALE:GREGORIAN
METHOD:PUBLISH
BEGIN:VEVENT
UID:AAAAAOKceKdAuZdDqVkQIpR/QYTEIiAA
CATEGORIES:Dienstplan Jugendfeuerwehr
CREATED:20220109T222959
SUMMARY:Hauptversammlung 2022 Jugendfeuerwehr - ALLE
LOCATION:Schwieberdingen
DESCRIPTION;ENCODING=QUOTED-PRINTABLE:Bemerkungen: Nach Ende der Veranstaltung werden die Jugendlichen nach Hause
  gefahren - Anzugsordnung: Uniform - Teilnehmerkreis: ALLE
DTSTAMP:20260422T210340Z
DTSTART:20220602T163000Z
DTEND:20220602T180000Z
SEQUENCE:0
TRANSP:OPAQUE
END:VEVENT
END:VCALENDAR