BEGIN:VCALENDAR
VERSION:2.0
PRODID:-//jEvents 2.0 for Joomla//EN
CALSCALE:GREGORIAN
METHOD:PUBLISH
BEGIN:VEVENT
UID:FT_2022_feiertag61020243c896f@schulferien.org
CATEGORIES:Ferien Baden-Württemberg
CREATED:20211030T151639
SUMMARY:1. Weihnachtsfeiertag
DESCRIPTION;ENCODING=QUOTED-PRINTABLE:Alle Termine auf www.schulferien.org
DTSTAMP:20260423T054344Z
DTSTART;VALUE=DATE:20221225
DTEND;VALUE=DATE:20221226
SEQUENCE:0
TRANSP:OPAQUE
END:VEVENT
END:VCALENDAR