BEGIN:VCALENDAR
VERSION:2.0
PRODID:-//jEvents 2.0 for Joomla//EN
CALSCALE:GREGORIAN
METHOD:PUBLISH
BEGIN:VEVENT
UID:FT_2022_feiertag61020243c3b0a@schulferien.org
CATEGORIES:Ferien Baden-Württemberg
CREATED:20211030T151639
SUMMARY:Allerheiligen
DESCRIPTION;ENCODING=QUOTED-PRINTABLE:Alle Termine auf www.schulferien.org
DTSTAMP:20260423T115506Z
DTSTART;VALUE=DATE:20221101
DTEND;VALUE=DATE:20221102
SEQUENCE:0
TRANSP:OPAQUE
END:VEVENT
END:VCALENDAR