BEGIN:VCALENDAR
VERSION:2.0
PRODID:-//jEvents 2.0 for Joomla//EN
CALSCALE:GREGORIAN
METHOD:PUBLISH
BEGIN:VEVENT
UID:FT_2022_feiertag61020243c0992@schulferien.org
CATEGORIES:Ferien Baden-Württemberg
CREATED:20211030T151639
SUMMARY:Tag der Deutschen Einheit
DESCRIPTION;ENCODING=QUOTED-PRINTABLE:Alle Termine auf www.schulferien.org
DTSTAMP:20260423T032925Z
DTSTART;VALUE=DATE:20221003
DTEND;VALUE=DATE:20221004
SEQUENCE:0
TRANSP:OPAQUE
END:VEVENT
END:VCALENDAR